BEGIN:VCALENDAR
VERSION:2.0
PRODID:-//Massachusetts ACDA - ECPv6.15.16//NONSGML v1.0//EN
CALSCALE:GREGORIAN
METHOD:PUBLISH
X-WR-CALNAME:Massachusetts ACDA
X-ORIGINAL-URL:https://massacda.org
X-WR-CALDESC:Events for Massachusetts ACDA
REFRESH-INTERVAL;VALUE=DURATION:PT1H
X-Robots-Tag:noindex
X-PUBLISHED-TTL:PT1H
BEGIN:VTIMEZONE
TZID:America/New_York
BEGIN:DAYLIGHT
TZOFFSETFROM:-0500
TZOFFSETTO:-0400
TZNAME:EDT
DTSTART:20230312T070000
END:DAYLIGHT
BEGIN:STANDARD
TZOFFSETFROM:-0400
TZOFFSETTO:-0500
TZNAME:EST
DTSTART:20231105T060000
END:STANDARD
BEGIN:DAYLIGHT
TZOFFSETFROM:-0500
TZOFFSETTO:-0400
TZNAME:EDT
DTSTART:20240310T070000
END:DAYLIGHT
BEGIN:STANDARD
TZOFFSETFROM:-0400
TZOFFSETTO:-0500
TZNAME:EST
DTSTART:20241103T060000
END:STANDARD
BEGIN:DAYLIGHT
TZOFFSETFROM:-0500
TZOFFSETTO:-0400
TZNAME:EDT
DTSTART:20250309T070000
END:DAYLIGHT
BEGIN:STANDARD
TZOFFSETFROM:-0400
TZOFFSETTO:-0500
TZNAME:EST
DTSTART:20251102T060000
END:STANDARD
END:VTIMEZONE
BEGIN:VEVENT
DTSTART;VALUE=DATE:20240714
DTEND;VALUE=DATE:20240718
DTSTAMP:20260423T174021
CREATED:20231201T125841Z
LAST-MODIFIED:20240703T225636Z
UID:5361-1720915200-1721260799@massacda.org
SUMMARY:2024 MassACDA Summer Conference
DESCRIPTION:The 2024 Massachusetts ACDA Conference will be held July 14th-17th on the Assumption University campus in Worcester\, MA.  The conference will feature the fantastically versatile British conductor\, composer\, singer and producer Ben Parry. Other highlights include a special appearance by Village Harmony\, and a celebration of Alice Parker lead by the legendary Nick Page. \nThe conference will also include engaging one-hour interest sessions featuring topics of research and expertise by Massachusetts ACDA members. Conference participants will have the opportunity to sing with our annual Conference Chorus conducted by Ben Parry. For our younger singers\, we will feature for the first time\, a Youth Chorus Festival on July 16th\, led by Pamela Mindell\, Reagan Paras\, and Kevin Neel. \nClick here to REGISTER \nClick here to see the SCHEDULE of events. \nClick here to read detailed descriptions of the SESSIONS. \nPlease note that registration includes the cost of dinner Sunday\, all lunches\, and snacks\, in addition to the sheet music for the Conference Chorus. If you are staying overnight\, you will also be provided breakfast for each night you stay. Dinner on Monday will be on your own. \nRegistration opens at 2:30 pm on Sunday\, and dinner begins that night at 4:30 pm. \nPDP will be available for no additional cost. You will need to sign in at each of the sessions and will receive a certificate at the end\, indicating how many hours you attended. For an additional cost\, graduate credit will be available through Westfield State. You will need to complete 15 hours of sessions and provide a written submission of extra evidence to receive 1 credit\, and you will need 25 hours of sessions\, and a written submission of extra evidence for 2 credit hours.
URL:https://massacda.org/event/2024-massacda-summer-conference/
LOCATION:Assumption College\, 500 Salisbury Street\, Worcester\, MA\, 01609\, United States
ATTACH;FMTTYPE=image/jpeg:https://massacda.org/wp-content/uploads/2024/06/Mass-ACDA-2024-Summer-Conference-Graphic.jpg
END:VEVENT
END:VCALENDAR